BEGIN:VCALENDAR
VERSION:2.0
PRODID:-//Danielle Cîmpean - ECPv6.15.18//NONSGML v1.0//EN
CALSCALE:GREGORIAN
METHOD:PUBLISH
X-ORIGINAL-URL:https://danielle-cimpean.de
X-WR-CALDESC:Veranstaltungen für Danielle Cîmpean
REFRESH-INTERVAL;VALUE=DURATION:PT1H
X-Robots-Tag:noindex
X-PUBLISHED-TTL:PT1H
BEGIN:VTIMEZONE
TZID:UTC
BEGIN:STANDARD
TZOFFSETFROM:+0000
TZOFFSETTO:+0000
TZNAME:UTC
DTSTART:20200101T000000
END:STANDARD
END:VTIMEZONE
BEGIN:VEVENT
DTSTART;TZID=UTC:20210713T193000
DTEND;TZID=UTC:20210713T210000
DTSTAMP:20260425T115551
CREATED:20210223T081649Z
LAST-MODIFIED:20210223T081649Z
UID:1560-1626204600-1626210000@danielle-cimpean.de
SUMMARY:Konzert zur Semestereröffnung
DESCRIPTION:Konzert zur Semestereröffnung.
URL:https://danielle-cimpean.de/event/konzert-zur-semestereroeffnung-2/
LOCATION:Bamberg\, Bamberg\, Bayern\, 96049\, Deutschland
CATEGORIES:Konzert
ATTACH;FMTTYPE=image/jpeg:https://danielle-cimpean.de/wp-content/uploads/2019/10/G1C8678.jpg
ORGANIZER;CN="VHS Bamberg":MAILTO:info@vhs-bamberg.de
END:VEVENT
END:VCALENDAR